BEGIN:VCALENDAR
VERSION:2.0
PRODID:-//La Mesa History Center - ECPv6.14.2//NONSGML v1.0//EN
CALSCALE:GREGORIAN
METHOD:PUBLISH
X-WR-CALNAME:La Mesa History Center
X-ORIGINAL-URL:https://lamesahistory.com
X-WR-CALDESC:Events for La Mesa History Center
REFRESH-INTERVAL;VALUE=DURATION:PT1H
X-Robots-Tag:noindex
X-PUBLISHED-TTL:PT1H
BEGIN:VTIMEZONE
TZID:America/Los_Angeles
BEGIN:DAYLIGHT
TZOFFSETFROM:-0800
TZOFFSETTO:-0700
TZNAME:PDT
DTSTART:20160313T100000
END:DAYLIGHT
BEGIN:STANDARD
TZOFFSETFROM:-0700
TZOFFSETTO:-0800
TZNAME:PST
DTSTART:20161106T090000
END:STANDARD
END:VTIMEZONE
BEGIN:VEVENT
DTSTART;TZID=America/Los_Angeles:20160507T140000
DTEND;TZID=America/Los_Angeles:20160507T140000
DTSTAMP:20260420T104419
CREATED:20160115T233657Z
LAST-MODIFIED:20160503T210647Z
UID:530-1462629600-1462629600@lamesahistory.com
SUMMARY:Rose Garden Celebration & Annual Meeting
DESCRIPTION:Join LMHC for our annual meeting and Rose Garden Celebration. The meeting will include election of 2016-2017 LMHC Officers. There will also be a raffle followed by refreshments\, tours of the McKinney House\, and a social hour.
URL:https://lamesahistory.com/event/annual-meeting/
LOCATION:McKinney House\, 8369 University Ave\, La Mesa\, CA\, 91942\, United States
ATTACH;FMTTYPE=image/jpeg:https://lamesahistory.com/wp-content/uploads/LMHC_2016-Annual-Meeting_event-img.jpg
END:VEVENT
BEGIN:VEVENT
DTSTART;TZID=America/Los_Angeles:20160227T100000
DTEND;TZID=America/Los_Angeles:20160227T100000
DTSTAMP:20260420T104419
CREATED:20160115T233657Z
LAST-MODIFIED:20160221T220545Z
UID:529-1456567200-1456567200@lamesahistory.com
SUMMARY:GHS Japanese American Roundtable
DESCRIPTION:World War II and the Japanese-American Students of Grossmont High \nCome learn about the Japanese-American students and their families affected by the U.S. entry into World War II.  Hear presentations from Grossmont High AP History students on their research projects to uncover the stories of those local families affected by Executive Order 9066 and the internment of our Japanese-American residents.
URL:https://lamesahistory.com/event/ghs-japanese-american-roundtable/
LOCATION:Grossmont High School Library\, 1100 Murray Dr.\, El Cajon\, 92020\, United States
ATTACH;FMTTYPE=image/jpeg:https://lamesahistory.com/wp-content/uploads/LMHC_GHS-Japanese-American-Roundtable_event-img.jpg
END:VEVENT
BEGIN:VEVENT
DTSTART;TZID=America/Los_Angeles:20160116T100000
DTEND;TZID=America/Los_Angeles:20160116T100000
DTSTAMP:20260420T104419
CREATED:20160105T225420Z
LAST-MODIFIED:20250914T031407Z
UID:522-1452938400-1452938400@lamesahistory.com
SUMMARY:La Mesa History Center History Roundtable
DESCRIPTION:Author and Society President James Newland will make a presentation on his new book "Around Mt. Helix."\n\nMr. Newland will cover some of the interesting aspects of this natural and cultural landmark\, and the communities that surround this iconic pinnacle. Books will be available for sale and signing. The event will be in the Healthcare District Auditorium
URL:https://lamesahistory.com/event/la-mesa-historical-society-history-roundtable/
LOCATION:Grossmont Healthcare District\, 9001 Wakarusa St.\, La Mesa\, 91942\, United States
ATTACH;FMTTYPE=image/jpeg:https://lamesahistory.com/wp-content/uploads/Around-Mt-Helix_1920x1080.jpg
END:VEVENT
END:VCALENDAR