BEGIN:VCALENDAR
VERSION:2.0
PRODID:-//La Mesa History Center - ECPv6.14.2//NONSGML v1.0//EN
CALSCALE:GREGORIAN
METHOD:PUBLISH
X-WR-CALNAME:La Mesa History Center
X-ORIGINAL-URL:https://lamesahistory.com
X-WR-CALDESC:Events for La Mesa History Center
REFRESH-INTERVAL;VALUE=DURATION:PT1H
X-Robots-Tag:noindex
X-PUBLISHED-TTL:PT1H
BEGIN:VTIMEZONE
TZID:America/Los_Angeles
BEGIN:DAYLIGHT
TZOFFSETFROM:-0800
TZOFFSETTO:-0700
TZNAME:PDT
DTSTART:20220313T100000
END:DAYLIGHT
BEGIN:STANDARD
TZOFFSETFROM:-0700
TZOFFSETTO:-0800
TZNAME:PST
DTSTART:20221106T090000
END:STANDARD
END:VTIMEZONE
BEGIN:VEVENT
DTSTART;TZID=America/Los_Angeles:20221105T090000
DTEND;TZID=America/Los_Angeles:20221105T150000
DTSTAMP:20260420T031039
CREATED:20220820T205543Z
LAST-MODIFIED:20221209T224646Z
UID:6584-1667638800-1667660400@lamesahistory.com
SUMMARY:16th Annual Home Tour "Fabulous Foothill-ers"
DESCRIPTION:Tickets available on the day at the event\, $30 members / $45 non-members\n\nThe La Mesa History Center is proud to associate with the Grossmont High School and Museum to present our 16th Annual Home Tour\, "Fabulous Foothill-ers."\n\nFeaturing the century-old Grossmont High “Castle” and the rural\, suburban neighborhoods of Brier Tract\, Mt Helix and Grossmont.\n\nCome experience the breathtaking views\, period decor\, inspiring architecture and beautiful landscapes. Don't miss the beautiful designs of these fantastic La Mesa homes!\n\nNOTE: La Mesa History Center members get discounted tickets! Patron-level members ($100+) receive two complimentary tickets with their membership.\nHome Tour Parking\, Check-In\, Ticket Purchase and Shuttle Pick-Up Center Information\nWhere\n\nGrossmont High School\, 1100 Murray Drive\, El Cajon\, CA 92020\n\nWhen\n\nNovember 5\, 2022 @ 9:00 am - 3:00 pm\n\nCheck-in starts at 8:30 am\, and the first shuttle departs at 9 am\n\n*To ensure time to view all homes- we recommend check-in before 1 pm\n\nMore Details\n\nNO printed tickets will be issued\, please bring a photo ID\n\nAll attendees MUST take provided shuttles\n\nNO photography of home interiors will be permitted\n\nDue to the nature of the tour\, it is not ADA-compliant. Comfortable shoes are recommended as there is a moderate amount of walking\n\nLMHC is a non-profit 501(c)(3) organization\, so your contribution is tax-deductible\n\n \n2022 Home Tour Sponsors\nPLATINUM Sponsors\n\nGOLD Sponsors\n\n\n\nEDCO Disposal Corporation \n   La Mesa Lumber \n   Jim O’Donnell\, Realtor \n   RCP Block and Brick \nAnthony's Fish Grotto \n\n\n\n 
URL:https://lamesahistory.com/event/16th-annual-home-tour-fabulous-foothillers/
LOCATION:California
ATTACH;FMTTYPE=image/png:https://lamesahistory.com/wp-content/uploads/2022/08/16th-Annual-HT-Product-Image-1.png
END:VEVENT
END:VCALENDAR